BEGIN:VCALENDAR
VERSION:2.0
PRODID:-//hacksw/handcal//NONSGML v1.0//EN
BEGIN:VEVENT
UID:noreply@gaycalgary.com
DTSTAMP:20100916T000000
DTSTART:20100916T190000
DTEND:20100916T200000
SUMMARY:Making Waves
DESCRIPTION:<FONT color=#0000ff size=3>swimming@teamedmonton.ca\n\n
	
LOCATION:NAIT Pool
	11762-106 Street
END:VEVENT
END:VCALENDAR