BEGIN:VCALENDAR
VERSION:2.0
PRODID:-//hacksw/handcal//NONSGML v1.0//EN
BEGIN:VEVENT
UID:noreply@gaycalgary.com
DTSTAMP:20100617T000000
DTSTART:20100617T190000
DTEND:20100617T190000
SUMMARY:Queer Images: GLBT Film Fest
DESCRIPTION:
LOCATION:Metro Cinema
END:VEVENT
END:VCALENDAR