BEGIN:VCALENDAR
VERSION:2.0
PRODID:-//hacksw/handcal//NONSGML v1.0//EN
BEGIN:VEVENT
UID:noreply@gaycalgary.com
DTSTAMP:20100327T000000
DTSTART:20100327T140000
DTEND:20100327T140000
SUMMARY:Theatre Outing
DESCRIPTION:
LOCATION:
END:VEVENT
END:VCALENDAR