BEGIN:VCALENDAR
VERSION:2.0
PRODID:-//hacksw/handcal//NONSGML v1.0//EN
BEGIN:VEVENT
UID:noreply@gaycalgary.com
DTSTAMP:20100912T000000
X-FUNAMBOL-ALLDAY:true;
X-MICROSOFT-CDO-ALLDAYEVENT:true;
DTSTART;VALUE=DATE:20100912
DTEND;VALUE=DATE:20100913
SUMMARY:Free Pool
DESCRIPTION:
LOCATION:Calgary Eagle Inc. - Bar
	424a 8th Avenue SE
	Calgary
END:VEVENT
END:VCALENDAR