BEGIN:VCALENDAR
VERSION:2.0
PRODID:-//hacksw/handcal//NONSGML v1.0//EN
BEGIN:VEVENT
UID:noreply@gaycalgary.com
DTSTAMP:20100317T000000
X-FUNAMBOL-ALLDAY:true;
X-MICROSOFT-CDO-ALLDAYEVENT:true;
DTSTART;VALUE=DATE:20100317
DTEND;VALUE=DATE:20100318
SUMMARY:St. Patty's Party
DESCRIPTION:Specials all day!
LOCATION:MPs Eatery & Bar - Main Location
	1742 10 AVE S.W. 
	Calgary
END:VEVENT
END:VCALENDAR