BEGIN:VCALENDAR
VERSION:2.0
PRODID:-//hacksw/handcal//NONSGML v1.0//EN
BEGIN:VEVENT
UID:noreply@gaycalgary.com
DTSTAMP:20100409T000000
DTSTART:20100409T170000
DTEND:20100409T000000
SUMMARY:Taboo Red Deer Show
DESCRIPTION:
LOCATION:Westerner Park\, Parkland Pavilion
	Red Deer
END:VEVENT
END:VCALENDAR