BEGIN:VCALENDAR
VERSION:2.0
PRODID:-//hacksw/handcal//NONSGML v1.0//EN
BEGIN:VEVENT
UID:noreply@gaycalgary.com
DTSTAMP:20100130T000000
DTSTART:20100130T200000
DTEND:20100130T030000
SUMMARY:4th Annual Duke and Diamonds
DESCRIPTION:This is the annual Dukes and Diamonds fundraiser hosted by Imperial Grand Duke 31 LJ Steele and guest hosts Imperial Grand Duke and Duchess 34!
	
	We put on a little show for you all every year from past dukes and duchesses in our community. Its a fun little event with the ever popular Diamond Wall! Pay $5.00 and chose a diamond off the wall. Every diamond is a winner ranging in prices from $5.00 - $100.00.
	
	Doors: 8:00 pm
	Cover: Donation
	Show: 9:30 pm
	
	Then join us downstairs for Buddy's Wonderland! Your favorite bar decked out in white. Some dressed in matching attire and folic the night away.
	
	We will also be having a show downstairs this year for a portion of the proceeds at the door donated to the ISCWR and its charitites!
	
	Doors: 9:00 pm
	Cover: $5.00 10-12\, $7.00 12-2 am
	Show: Midnight
	
	See you all there!
LOCATION:Woody's - Main Location
	11725 Jasper Avenue 
	Edmonton
END:VEVENT
END:VCALENDAR