BEGIN:VCALENDAR
VERSION:2.0
PRODID:-//hacksw/handcal//NONSGML v1.0//EN
BEGIN:VEVENT
UID:noreply@gaycalgary.com
DTSTAMP:20100917T000000
DTSTART:20100917T220000
DTEND:20100917T220000
SUMMARY:Mixer
DESCRIPTION:
LOCATION:The Mix
	103 Mayor Magrath Dr S
	Lethbridge
END:VEVENT
END:VCALENDAR