BEGIN:VCALENDAR
VERSION:2.0
PRODID:-//hacksw/handcal//NONSGML v1.0//EN
BEGIN:VEVENT
UID:noreply@gaycalgary.com
DTSTAMP:20100131T000000
DTSTART:20100131T193000
DTEND:20100131T203000
SUMMARY:Ballroom Dancing
DESCRIPTION:
LOCATION:Foot Notes Dance Studio
	9708-45 Avenue NW
	Edmonton
END:VEVENT
END:VCALENDAR