BEGIN:VCALENDAR
VERSION:2.0
PRODID:-//hacksw/handcal//NONSGML v1.0//EN
BEGIN:VEVENT
UID:noreply@gaycalgary.com
DTSTAMP:20100808T000000
DTSTART:20100808T190000
DTEND:20100808T210000
SUMMARY:Men Talking with Pride
DESCRIPTION:A social discussion group for gay\, bisexual and transgendered men to discuss current issues and to offer support to each other.
LOCATION:Pride Centre of Edmonton - Community Centre
	9540 - 111 Avenue
	Edmonton
END:VEVENT
END:VCALENDAR