BEGIN:VCALENDAR
VERSION:2.0
PRODID:-//hacksw/handcal//NONSGML v1.0//EN
BEGIN:VEVENT
UID:noreply@gaycalgary.com
DTSTAMP:20080126T000000
DTSTART:20080126T190000
DTEND:20080126T190000
SUMMARY:Shooters at the Texas Lounge
DESCRIPTION:
LOCATION:The Texas Lounge (308 - 17th Ave SW)
END:VEVENT
END:VCALENDAR