BEGIN:VCALENDAR
VERSION:2.0
PRODID:-//hacksw/handcal//NONSGML v1.0//EN
BEGIN:VEVENT
UID:noreply@gaycalgary.com
DTSTAMP:20100808T000000
DTSTART:20100808T110000
DTEND:20100808T170000
SUMMARY:Free School
DESCRIPTION:Free School provides workshops on a variety of topics related to local activism.
LOCATION:Pride Centre of Edmonton - Community Centre
	9540 - 111 Avenue
	Edmonton
END:VEVENT
END:VCALENDAR