BEGIN:VCALENDAR
VERSION:2.0
PRODID:-//hacksw/handcal//NONSGML v1.0//EN
BEGIN:VEVENT
UID:noreply@gaycalgary.com
DTSTAMP:20101024T000000
DTSTART:20101024T100000
DTEND:20101024T110000
SUMMARY:Running
DESCRIPTION:All genders and levels of runners and walkers are invited to join this free activity.
LOCATION:Kinsmen Sports Centre
	Front Entrance
END:VEVENT
END:VCALENDAR