BEGIN:VCALENDAR
VERSION:2.0
PRODID:-//hacksw/handcal//NONSGML v1.0//EN
BEGIN:VEVENT
UID:noreply@gaycalgary.com
DTSTAMP:20101009T000000
DTSTART:20101009T143000
DTEND:20101009T143000
SUMMARY:Monthly Meeting
DESCRIPTION:
LOCATION:Unitarian Church
	10804 - 119th Street
	Edmonton
END:VEVENT
END:VCALENDAR