BEGIN:VCALENDAR
VERSION:2.0
PRODID:-//hacksw/handcal//NONSGML v1.0//EN
BEGIN:VEVENT
UID:noreply@gaycalgary.com
DTSTAMP:20101127T000000
DTSTART:20101127T120000
DTEND:20101127T130000
SUMMARY:AA Big Book Study
DESCRIPTION:Discussion and support group for those struggling with an alcohol addiction or seeking support in staying sober.
LOCATION:Pride Centre of Edmonton - Community Centre
	9540 - 111 Avenue
	Edmonton
END:VEVENT
END:VCALENDAR