BEGIN:VCALENDAR
VERSION:2.0
PRODID:-//hacksw/handcal//NONSGML v1.0//EN
BEGIN:VEVENT
UID:noreply@gaycalgary.com
DTSTAMP:20101231T000000
DTSTART:20101231T183000
DTEND:20101231T203000
SUMMARY:Youth Movie Night
DESCRIPTION:
LOCATION:Pride Centre of Edmonton - Community Centre
	9540 - 111 Avenue
	Edmonton
END:VEVENT
END:VCALENDAR