BEGIN:VCALENDAR
VERSION:2.0
PRODID:-//hacksw/handcal//NONSGML v1.0//EN
BEGIN:VEVENT
UID:noreply@gaycalgary.com
DTSTAMP:20100527T000000
DTSTART:20100527T193000
DTEND:20100527T213000
SUMMARY:Free to Be Volleyball
DESCRIPTION:
LOCATION:Amiskiwacy Academy
	101 Airport Road
	Calgary
END:VEVENT
END:VCALENDAR