BEGIN:VCALENDAR
VERSION:2.0
PRODID:-//hacksw/handcal//NONSGML v1.0//EN
BEGIN:VEVENT
UID:noreply@gaycalgary.com
DTSTAMP:20100929T000000
DTSTART:20100929T190000
DTEND:20100929T210000
SUMMARY:Youth Understanding Youth
DESCRIPTION:A safe and supportive space for GLBTQ youth aged 13–25. Video games\, computers with internet\, clothing bank\, and more.
LOCATION:Pride Centre of Edmonton - Community Centre
	9540 - 111 Avenue
	Edmonton
END:VEVENT
END:VCALENDAR