BEGIN:VCALENDAR
VERSION:2.0
PRODID:-//hacksw/handcal//NONSGML v1.0//EN
BEGIN:VEVENT
UID:noreply@gaycalgary.com
DTSTAMP:20100527T000000
DTSTART:20100527T130000
DTEND:20100527T160000
SUMMARY:GLBT Seniors Drop In
DESCRIPTION:A social and support group for seniors of all genders and sexualities to talk\, have tea and offer each other support.
LOCATION:Pride Centre of Edmonton - Community Centre
	9540 - 111 Avenue
	Edmonton
END:VEVENT
END:VCALENDAR