BEGIN:VCALENDAR
VERSION:2.0
PRODID:-//hacksw/handcal//NONSGML v1.0//EN
BEGIN:VEVENT
UID:noreply@gaycalgary.com
DTSTAMP:20100111T000000
DTSTART:20100111T191500
DTEND:20100111T191500
SUMMARY:Curling
DESCRIPTION:
LOCATION:Granite Curling Club
	8620 107 Street NW
	Edmonton
END:VEVENT
END:VCALENDAR