BEGIN:VCALENDAR
VERSION:2.0
PRODID:-//hacksw/handcal//NONSGML v1.0//EN
BEGIN:VEVENT
UID:noreply@gaycalgary.com
DTSTAMP:20100913T000000
DTSTART:20100913T190000
DTEND:20100913T210000
SUMMARY:Men's HIV Support Group
DESCRIPTION:Support group for people living with HIV/AIDS.
LOCATION:Pride Centre of Edmonton - Community Centre
	9540 - 111 Avenue
	Edmonton
END:VEVENT
END:VCALENDAR