BEGIN:VCALENDAR
VERSION:2.0
PRODID:-//hacksw/handcal//NONSGML v1.0//EN
BEGIN:VEVENT
UID:noreply@gaycalgary.com
DTSTAMP:20100307T000000
DTSTART:20100307T170000
DTEND:20100307T180000
SUMMARY:Swim Practice
DESCRIPTION:No practices on long weekends.
LOCATION:SAIT Pool
	1301 - 16th Ave NW
	Calgary
END:VEVENT
END:VCALENDAR