BEGIN:VCALENDAR
VERSION:2.0
PRODID:-//hacksw/handcal//NONSGML v1.0//EN
BEGIN:VEVENT
UID:noreply@gaycalgary.com
DTSTAMP:20100130T000000
DTSTART:20100130T100000
DTEND:20100130T100000
SUMMARY:Coffee
DESCRIPTION:
LOCATION:Midtown Co-op
	1130 - 11th Ave SW
	Calgary
END:VEVENT
END:VCALENDAR