BEGIN:VCALENDAR
VERSION:2.0
PRODID:-//hacksw/handcal//NONSGML v1.0//EN
BEGIN:VEVENT
UID:noreply@gaycalgary.com
DTSTAMP:20101020T000000
DTSTART:20101020T121000
DTEND:20101020T121000
SUMMARY:Communion Service
DESCRIPTION:Knox United Church is an all-inclusive church located in downtown Calgary. A variety of facility rentals are also available for meetings\, events and concerts.
LOCATION:Knox United Church
	506 - 4th Street SW
	Calgary
END:VEVENT
END:VCALENDAR