BEGIN:VCALENDAR
VERSION:2.0
PRODID:-//hacksw/handcal//NONSGML v1.0//EN
BEGIN:VEVENT
UID:noreply@gaycalgary.com
DTSTAMP:20100309T000000
DTSTART:20100309T190000
DTEND:20100309T213000
SUMMARY:Rehearsals
DESCRIPTION:
LOCATION:Temple B’Nai Tikvah
	900 - 47 Avenue SW
END:VEVENT
END:VCALENDAR