BEGIN:VCALENDAR
VERSION:2.0
PRODID:-//hacksw/handcal//NONSGML v1.0//EN
BEGIN:VEVENT
UID:noreply@gaycalgary.com
DTSTAMP:20101005T000000
DTSTART:20101005T170000
DTEND:20101005T190000
SUMMARY:Calgary Networking Club
DESCRIPTION:The networking meetings are open to all individuals who would like to promote their businesses or who would like to meet new people - no business affiliation is necessary.
LOCATION:Ming
	520 - 17th Ave SW
END:VEVENT
END:VCALENDAR