BEGIN:VCALENDAR
VERSION:2.0
PRODID:-//hacksw/handcal//NONSGML v1.0//EN
BEGIN:VEVENT
UID:noreply@gaycalgary.com
DTSTAMP:20100405T000000
DTSTART:20100405T010000
DTEND:20100405T020000
SUMMARY:Inside Out Youth Group
DESCRIPTION:Peer-facilitated youth group for GLBTQ ages 15-25. Aims to let youth know they are not alone\, and to connect them with their peers. Safe environment with a variety of resources and activities.
LOCATION:Calgary Outlink
	#4\, 1230A 17th Avenue SW
	Calgary
END:VEVENT
END:VCALENDAR