BEGIN:VCALENDAR
VERSION:2.0
PRODID:-//hacksw/handcal//NONSGML v1.0//EN
BEGIN:VEVENT
UID:noreply@gaycalgary.com
DTSTAMP:20101101T000000
DTSTART:20101101T190000
DTEND:20101101T213000
SUMMARY:Meet and Greets
DESCRIPTION:
LOCATION:Call for info: 403-398-9968
END:VEVENT
END:VCALENDAR