BEGIN:VCALENDAR
VERSION:2.0
PRODID:-//hacksw/handcal//NONSGML v1.0//EN
BEGIN:VEVENT
UID:noreply@gaycalgary.com
DTSTAMP:20091231T000000
X-FUNAMBOL-ALLDAY:true;
X-MICROSOFT-CDO-ALLDAYEVENT:true;
DTSTART;VALUE=DATE:20091231
DTEND;VALUE=DATE:20100101
SUMMARY:Dance Party
DESCRIPTION:
LOCATION:Goliaths Saunatel - Main Location
	308B 17th Avenue SW
	Calgary
END:VEVENT
END:VCALENDAR