BEGIN:VCALENDAR
VERSION:2.0
PRODID:-//hacksw/handcal//NONSGML v1.0//EN
BEGIN:VEVENT
UID:noreply@gaycalgary.com
DTSTAMP:20100124T000000
DTSTART:20100124T170000
DTEND:20100124T190000
SUMMARY:All You Can Eat Perogy Dinner
DESCRIPTION:Cost: $10.00
LOCATION:Boots Bar and Lounge - Main Location
	10242 106th Street 
	Edmonton
END:VEVENT
END:VCALENDAR