BEGIN:VCALENDAR
VERSION:2.0
PRODID:-//hacksw/handcal//NONSGML v1.0//EN
BEGIN:VEVENT
UID:noreply@gaycalgary.com
DTSTAMP:20091103T000000
DTSTART:20091103T200000
DTEND:20091103T220000
SUMMARY:Gymnastics
DESCRIPTION:
LOCATION:Ortona Gymnastics Club
	8755 - 50th Ave
	Edmonton
END:VEVENT
END:VCALENDAR