BEGIN:VCALENDAR
VERSION:2.0
PRODID:-//hacksw/handcal//NONSGML v1.0//EN
BEGIN:VEVENT
UID:noreply@gaycalgary.com
DTSTAMP:20100303T000000
DTSTART:20100303T180000
DTEND:20100303T193000
SUMMARY:Badminton
DESCRIPTION:Women's drop-in recreational badminton.  $40.00 season or $5.00 per drop in.
LOCATION:Oliver School
	10227 - 118 Street
	Edmonton
END:VEVENT
END:VCALENDAR