BEGIN:VCALENDAR
VERSION:2.0
PRODID:-//hacksw/handcal//NONSGML v1.0//EN
BEGIN:VEVENT
UID:noreply@gaycalgary.com
DTSTAMP:20080504T000000
DTSTART:20080504T110000
DTEND:20080504T110000
SUMMARY:Worship
DESCRIPTION:Worship service.
LOCATION:Knox United Church
	506 - 4th Street SW
END:VEVENT
END:VCALENDAR