BEGIN:VCALENDAR
VERSION:2.0
PRODID:-//hacksw/handcal//NONSGML v1.0//EN
BEGIN:VEVENT
UID:noreply@gaycalgary.com
DTSTAMP:20090805T000000
DTSTART:20090805T133000
DTEND:20090805T133000
SUMMARY:Women's Healing Circle
DESCRIPTION:
LOCATION:AIDS Calgary Awareness Association - Calgary Cares Centre
	110\, 1603 10th Avenue S.W.
	Calgary
END:VEVENT
END:VCALENDAR