BEGIN:VCALENDAR
VERSION:2.0
PRODID:-//hacksw/handcal//NONSGML v1.0//EN
BEGIN:VEVENT
UID:noreply@gaycalgary.com
DTSTAMP:20090806T000000
X-FUNAMBOL-ALLDAY:true;
X-MICROSOFT-CDO-ALLDAYEVENT:true;
DTSTART;VALUE=DATE:20090806
DTEND;VALUE=DATE:20090807
SUMMARY:Food Specials
DESCRIPTION:
LOCATION:MPs Eatery & Bar - Main Location
	1742 10 AVE S.W. 
	Calgary
END:VEVENT
END:VCALENDAR