BEGIN:VCALENDAR
VERSION:2.0
PRODID:-//hacksw/handcal//NONSGML v1.0//EN
BEGIN:VEVENT
UID:noreply@gaycalgary.com
DTSTAMP:20090724T000000
X-FUNAMBOL-ALLDAY:true;
X-MICROSOFT-CDO-ALLDAYEVENT:true;
DTSTART;VALUE=DATE:20090724
DTEND;VALUE=DATE:20090725
SUMMARY:Food Specials
DESCRIPTION:
LOCATION:MPs Eatery & Bar
	1742 10 AVE SW
	Calgary
END:VEVENT
END:VCALENDAR