BEGIN:VCALENDAR
VERSION:2.0
PRODID:-//hacksw/handcal//NONSGML v1.0//EN
BEGIN:VEVENT
UID:noreply@gaycalgary.com
DTSTAMP:20090726T000000
DTSTART:20090726T150000
DTEND:20090726T170000
SUMMARY:Free to Be Volleyball
DESCRIPTION:
LOCATION:Kinsmen Sports Centre
END:VEVENT
END:VCALENDAR