BEGIN:VCALENDAR
VERSION:2.0
PRODID:-//hacksw/handcal//NONSGML v1.0//EN
BEGIN:VEVENT
UID:noreply@gaycalgary.com
DTSTAMP:20090821T000000
DTSTART:20090821T173000
DTEND:20090821T183000
SUMMARY:Health Testing & Vaccinations
DESCRIPTION:Free and Confidential
LOCATION:Goliaths Saunatel - Main Location
	308B 17th Avenue SW
	Calgary
END:VEVENT
END:VCALENDAR