BEGIN:VCALENDAR
VERSION:2.0
PRODID:-//hacksw/handcal//NONSGML v1.0//EN
BEGIN:VEVENT
UID:noreply@gaycalgary.com
DTSTAMP:20090617T000000
DTSTART:20090617T090000
DTEND:20090617T150000
SUMMARY:Devonian Gardens Rainbow Tour
DESCRIPTION:For details email tuff@shaw.ca or phone 780.474.8240
LOCATION:
END:VEVENT
END:VCALENDAR