BEGIN:VCALENDAR
VERSION:2.0
PRODID:-//hacksw/handcal//NONSGML v1.0//EN
BEGIN:VEVENT
UID:noreply@gaycalgary.com
DTSTAMP:20090628T000000
DTSTART:20090628T013000
DTEND:20090628T013000
SUMMARY:Bus Pickup
DESCRIPTION:Ride the shuttle to the Rodeo and back\, FREE OF CHARGE!!
	
	Bus will leave promptly at time listed - DO NOT BE LATE!
LOCATION:Strathmore Agricultural Society
	Rodeo Grounds Main Gate
END:VEVENT
END:VCALENDAR