BEGIN:VCALENDAR
VERSION:2.0
PRODID:-//hacksw/handcal//NONSGML v1.0//EN
BEGIN:VEVENT
UID:noreply@gaycalgary.com
DTSTAMP:20090804T000000
DTSTART:20090804T163000
DTEND:20090804T163000
SUMMARY:Youth Yoga
DESCRIPTION:
LOCATION:Alex Taylor School Gym
	9321 Jasper Ave
	Edmonton
END:VEVENT
END:VCALENDAR