BEGIN:VCALENDAR
VERSION:2.0
PRODID:-//hacksw/handcal//NONSGML v1.0//EN
BEGIN:VEVENT
UID:noreply@gaycalgary.com
DTSTAMP:20090731T000000
DTSTART:20090731T183000
DTEND:20090731T203000
SUMMARY:Youth Movie Night
DESCRIPTION:Movie chosen by youth (aged 14-25)\, usually with LGBT themes.  Popcorn is served.
LOCATION:Pride Centre of Edmonton - Main Space (upstairs)
	9540 - 111 Avenue
	Edmonton
END:VEVENT
END:VCALENDAR