BEGIN:VCALENDAR
VERSION:2.0
PRODID:-//hacksw/handcal//NONSGML v1.0//EN
BEGIN:VEVENT
UID:noreply@gaycalgary.com
DTSTAMP:20090717T000000
DTSTART:20090717T170000
DTEND:20090717T170000
SUMMARY:BBQ at the Backlot
DESCRIPTION:
LOCATION:BackLot - Main Location
	209 - 10th Avenue SW
	Calgary
END:VEVENT
END:VCALENDAR