BEGIN:VCALENDAR
VERSION:2.0
PRODID:-//hacksw/handcal//NONSGML v1.0//EN
BEGIN:VEVENT
UID:noreply@gaycalgary.com
DTSTAMP:20090609T000000
DTSTART:20090609T180000
DTEND:20090609T210000
SUMMARY:Lawn Bowling
DESCRIPTION:lawnbowling@apollocalgary.com
LOCATION:Inglewood Lawn Bowling Club
	1235 - 8th Avenue SE
END:VEVENT
END:VCALENDAR