BEGIN:VCALENDAR
VERSION:2.0
PRODID:-//hacksw/handcal//NONSGML v1.0//EN
BEGIN:VEVENT
UID:noreply@gaycalgary.com
DTSTAMP:20090627T000000
DTSTART:20090627T120000
DTEND:20090627T173000
SUMMARY:Grand Entry and Rodeo Events
DESCRIPTION:
LOCATION:Arena
END:VEVENT
END:VCALENDAR