BEGIN:VCALENDAR
VERSION:2.0
PRODID:-//hacksw/handcal//NONSGML v1.0//EN
BEGIN:VEVENT
UID:noreply@gaycalgary.com
DTSTAMP:20090515T000000
DTSTART:20090515T220000
DTEND:20090515T220000
SUMMARY:DJ Night
DESCRIPTION:
LOCATION:Calgary Eagle Inc. - Bar
	424a 8th Avenue SE
	Calgary
END:VEVENT
END:VCALENDAR