BEGIN:VCALENDAR
VERSION:2.0
PRODID:-//hacksw/handcal//NONSGML v1.0//EN
BEGIN:VEVENT
UID:noreply@gaycalgary.com
DTSTAMP:20090602T000000
DTSTART:20090602T180000
DTEND:20090602T180000
SUMMARY:Courtney Aarbo Open House
DESCRIPTION:Pre-Fairy Tales Cocktails
LOCATION:1138 Kensington Road SW
	(Directly across from Plaza Theatre)
END:VEVENT
END:VCALENDAR