BEGIN:VCALENDAR
VERSION:2.0
PRODID:-//hacksw/handcal//NONSGML v1.0//EN
BEGIN:VEVENT
UID:noreply@gaycalgary.com
DTSTAMP:20090531T000000
DTSTART:20090531T140000
DTEND:20090531T153000
SUMMARY:Yoga
DESCRIPTION:yoga@teamedmonton.ca
LOCATION:Korezone Fitness
	#203\, 10575 -115 Street
END:VEVENT
END:VCALENDAR