BEGIN:VCALENDAR
VERSION:2.0
PRODID:-//hacksw/handcal//NONSGML v1.0//EN
BEGIN:VEVENT
UID:noreply@gaycalgary.com
DTSTAMP:20090610T000000
DTSTART:20090610T180000
DTEND:20090610T193000
SUMMARY:Badminton
DESCRIPTION:Women’s Drop-In Recreational Badminton.
LOCATION:Oliver School
	10227 - 118 Street
END:VEVENT
END:VCALENDAR