BEGIN:VCALENDAR
VERSION:2.0
PRODID:-//hacksw/handcal//NONSGML v1.0//EN
BEGIN:VEVENT
UID:noreply@gaycalgary.com
DTSTAMP:20090531T000000
DTSTART:20090531T100000
DTEND:20090531T130000
SUMMARY:Networks Brunch
DESCRIPTION:
LOCATION:Steak House and Bar
	(contact for address)
END:VEVENT
END:VCALENDAR